BEGIN:VCALENDAR
VERSION:2.0
PRODID:-//POP UP Dumpling Bar - ECPv6.15.18//NONSGML v1.0//EN
CALSCALE:GREGORIAN
METHOD:PUBLISH
X-WR-CALNAME:POP UP Dumpling Bar
X-ORIGINAL-URL:https://popupdumplingbar.com.au
X-WR-CALDESC:Events for POP UP Dumpling Bar
REFRESH-INTERVAL;VALUE=DURATION:PT1H
X-Robots-Tag:noindex
X-PUBLISHED-TTL:PT1H
BEGIN:VTIMEZONE
TZID:Australia/Sydney
BEGIN:STANDARD
TZOFFSETFROM:+1100
TZOFFSETTO:+1000
TZNAME:AEST
DTSTART:20230401T160000
END:STANDARD
BEGIN:DAYLIGHT
TZOFFSETFROM:+1000
TZOFFSETTO:+1100
TZNAME:AEDT
DTSTART:20230930T160000
END:DAYLIGHT
BEGIN:STANDARD
TZOFFSETFROM:+1100
TZOFFSETTO:+1000
TZNAME:AEST
DTSTART:20240406T160000
END:STANDARD
BEGIN:DAYLIGHT
TZOFFSETFROM:+1000
TZOFFSETTO:+1100
TZNAME:AEDT
DTSTART:20241005T160000
END:DAYLIGHT
BEGIN:STANDARD
TZOFFSETFROM:+1100
TZOFFSETTO:+1000
TZNAME:AEST
DTSTART:20250405T160000
END:STANDARD
BEGIN:DAYLIGHT
TZOFFSETFROM:+1000
TZOFFSETTO:+1100
TZNAME:AEDT
DTSTART:20251004T160000
END:DAYLIGHT
END:VTIMEZONE
BEGIN:VEVENT
DTSTART;TZID=Australia/Sydney:20241102T173000
DTEND;TZID=Australia/Sydney:20241102T203000
DTSTAMP:20260422T210347
CREATED:20241101T014315Z
LAST-MODIFIED:20241101T015158Z
UID:4412-1730568600-1730579400@popupdumplingbar.com.au
SUMMARY:Flinders Public School 21 Year Anniversary - Free Outdoor Cinema
DESCRIPTION:
URL:https://popupdumplingbar.com.au/find-us/flinders-public-school-21-year-anniversary-free-outdoor-cinema/
LOCATION:Flinders Public School\, Brunderee Road\, NSW\, 2529
CATEGORIES:Outdoor Cinema
END:VEVENT
END:VCALENDAR