BEGIN:VCALENDAR
VERSION:2.0
PRODID:-//POP UP Dumpling Bar - ECPv6.15.18//NONSGML v1.0//EN
CALSCALE:GREGORIAN
METHOD:PUBLISH
X-ORIGINAL-URL:https://popupdumplingbar.com.au
X-WR-CALDESC:Events for POP UP Dumpling Bar
REFRESH-INTERVAL;VALUE=DURATION:PT1H
X-Robots-Tag:noindex
X-PUBLISHED-TTL:PT1H
BEGIN:VTIMEZONE
TZID:Australia/Sydney
BEGIN:STANDARD
TZOFFSETFROM:+1100
TZOFFSETTO:+1000
TZNAME:AEST
DTSTART:20230401T160000
END:STANDARD
BEGIN:DAYLIGHT
TZOFFSETFROM:+1000
TZOFFSETTO:+1100
TZNAME:AEDT
DTSTART:20230930T160000
END:DAYLIGHT
BEGIN:STANDARD
TZOFFSETFROM:+1100
TZOFFSETTO:+1000
TZNAME:AEST
DTSTART:20240406T160000
END:STANDARD
BEGIN:DAYLIGHT
TZOFFSETFROM:+1000
TZOFFSETTO:+1100
TZNAME:AEDT
DTSTART:20241005T160000
END:DAYLIGHT
BEGIN:STANDARD
TZOFFSETFROM:+1100
TZOFFSETTO:+1000
TZNAME:AEST
DTSTART:20250405T160000
END:STANDARD
BEGIN:DAYLIGHT
TZOFFSETFROM:+1000
TZOFFSETTO:+1100
TZNAME:AEDT
DTSTART:20251004T160000
END:DAYLIGHT
END:VTIMEZONE
BEGIN:VEVENT
DTSTART;TZID=Australia/Sydney:20241107T160000
DTEND;TZID=Australia/Sydney:20241107T200000
DTSTAMP:20260426T113046
CREATED:20241101T014553Z
LAST-MODIFIED:20241101T014553Z
UID:4417-1730995200-1731009600@popupdumplingbar.com.au
SUMMARY:Folk: Jack Davies & JB Paterson
DESCRIPTION:
URL:https://popupdumplingbar.com.au/find-us/folk-jack-davies-jb-paterson/
LOCATION:The Servo Food Truck Bar\, Darcy Rd\, Port Kembla\, NSW\, 2505\, Australia
CATEGORIES:Bars,Live Band,Live Music
END:VEVENT
END:VCALENDAR