BEGIN:VCALENDAR
VERSION:2.0
PRODID:-//POP UP Dumpling Bar - ECPv6.15.18//NONSGML v1.0//EN
CALSCALE:GREGORIAN
METHOD:PUBLISH
X-WR-CALNAME:POP UP Dumpling Bar
X-ORIGINAL-URL:https://popupdumplingbar.com.au
X-WR-CALDESC:Events for POP UP Dumpling Bar
REFRESH-INTERVAL;VALUE=DURATION:PT1H
X-Robots-Tag:noindex
X-PUBLISHED-TTL:PT1H
BEGIN:VTIMEZONE
TZID:Australia/Sydney
BEGIN:STANDARD
TZOFFSETFROM:+1100
TZOFFSETTO:+1000
TZNAME:AEST
DTSTART:20240406T160000
END:STANDARD
BEGIN:DAYLIGHT
TZOFFSETFROM:+1000
TZOFFSETTO:+1100
TZNAME:AEDT
DTSTART:20241005T160000
END:DAYLIGHT
BEGIN:STANDARD
TZOFFSETFROM:+1100
TZOFFSETTO:+1000
TZNAME:AEST
DTSTART:20250405T160000
END:STANDARD
BEGIN:DAYLIGHT
TZOFFSETFROM:+1000
TZOFFSETTO:+1100
TZNAME:AEDT
DTSTART:20251004T160000
END:DAYLIGHT
BEGIN:STANDARD
TZOFFSETFROM:+1100
TZOFFSETTO:+1000
TZNAME:AEST
DTSTART:20260404T160000
END:STANDARD
BEGIN:DAYLIGHT
TZOFFSETFROM:+1000
TZOFFSETTO:+1100
TZNAME:AEDT
DTSTART:20261003T160000
END:DAYLIGHT
END:VTIMEZONE
BEGIN:VEVENT
DTSTART;TZID=Australia/Sydney:20250705T110000
DTEND;TZID=Australia/Sydney:20250705T150000
DTSTAMP:20260422T111159
CREATED:20250719T182134Z
LAST-MODIFIED:20250719T182134Z
UID:4609-1751713200-1751727600@popupdumplingbar.com.au
SUMMARY:Coomaditchie Last Minute Gallery
DESCRIPTION:
URL:https://popupdumplingbar.com.au/find-us/coomaditchie-last-minute-gallery/
LOCATION:The Servo Food Truck Bar\, Darcy Rd\, Port Kembla\, NSW\, 2505\, Australia
CATEGORIES:Bars,Festivals
END:VEVENT
END:VCALENDAR