BEGIN:VCALENDAR
VERSION:2.0
PRODID:-//POP UP Dumpling Bar - ECPv6.15.18//NONSGML v1.0//EN
CALSCALE:GREGORIAN
METHOD:PUBLISH
X-ORIGINAL-URL:https://popupdumplingbar.com.au
X-WR-CALDESC:Events for POP UP Dumpling Bar
REFRESH-INTERVAL;VALUE=DURATION:PT1H
X-Robots-Tag:noindex
X-PUBLISHED-TTL:PT1H
BEGIN:VTIMEZONE
TZID:Australia/Sydney
BEGIN:STANDARD
TZOFFSETFROM:+1100
TZOFFSETTO:+1000
TZNAME:AEST
DTSTART:20230401T160000
END:STANDARD
BEGIN:DAYLIGHT
TZOFFSETFROM:+1000
TZOFFSETTO:+1100
TZNAME:AEDT
DTSTART:20230930T160000
END:DAYLIGHT
BEGIN:STANDARD
TZOFFSETFROM:+1100
TZOFFSETTO:+1000
TZNAME:AEST
DTSTART:20240406T160000
END:STANDARD
BEGIN:DAYLIGHT
TZOFFSETFROM:+1000
TZOFFSETTO:+1100
TZNAME:AEDT
DTSTART:20241005T160000
END:DAYLIGHT
BEGIN:STANDARD
TZOFFSETFROM:+1100
TZOFFSETTO:+1000
TZNAME:AEST
DTSTART:20250405T160000
END:STANDARD
BEGIN:DAYLIGHT
TZOFFSETFROM:+1000
TZOFFSETTO:+1100
TZNAME:AEDT
DTSTART:20251004T160000
END:DAYLIGHT
END:VTIMEZONE
BEGIN:VEVENT
DTSTART;TZID=Australia/Sydney:20240825T120000
DTEND;TZID=Australia/Sydney:20240825T180000
DTSTAMP:20260421T185731
CREATED:20240519T123524Z
LAST-MODIFIED:20240601T031544Z
UID:4215-1724587200-1724608800@popupdumplingbar.com.au
SUMMARY:Dusty Lizard Brewing
DESCRIPTION:
URL:https://popupdumplingbar.com.au/find-us/dusty-lizard-brewing-8/
LOCATION:Dusty Lizard Brewing\, 102 Smith Street\, Wollongong\, NSW\, 2500\, Australia
CATEGORIES:Bars
END:VEVENT
BEGIN:VEVENT
DTSTART;VALUE=DATE:20240823
DTEND;VALUE=DATE:20240825
DTSTAMP:20260421T185731
CREATED:20240201T085337Z
LAST-MODIFIED:20240201T085337Z
UID:4111-1724371200-1724543999@popupdumplingbar.com.au
SUMMARY:The Barrel Shepherd
DESCRIPTION:
URL:https://popupdumplingbar.com.au/find-us/the-barrel-shepherd-4/
LOCATION:The Barrel Shepherd\, 16a Bellambi Lane (Entry via Pioneer Rd)\, Bellambi\, NSW\, 2518\, Australia
CATEGORIES:Bars
END:VEVENT
BEGIN:VEVENT
DTSTART;TZID=Australia/Sydney:20240818T083000
DTEND;TZID=Australia/Sydney:20240818T140000
DTSTAMP:20260421T185731
CREATED:20240201T085157Z
LAST-MODIFIED:20240201T085157Z
UID:4108-1723969800-1723989600@popupdumplingbar.com.au
SUMMARY:Bundanoon Makers Market
DESCRIPTION:
URL:https://popupdumplingbar.com.au/find-us/bundanoon-makers-market-11/
LOCATION:Bundanoon Soldiers’ Memorial Hall\, 3 Railway Ave\, Bundanoon\, NSW\, 2578\, Australia
CATEGORIES:Markets
END:VEVENT
BEGIN:VEVENT
DTSTART;TZID=Australia/Sydney:20240817T120000
DTEND;TZID=Australia/Sydney:20240817T200000
DTSTAMP:20260421T185731
CREATED:20240519T123421Z
LAST-MODIFIED:20240601T031542Z
UID:4212-1723896000-1723924800@popupdumplingbar.com.au
SUMMARY:Dusty Lizard Brewing
DESCRIPTION:
URL:https://popupdumplingbar.com.au/find-us/dusty-lizard-brewing-7/
LOCATION:Dusty Lizard Brewing\, 102 Smith Street\, Wollongong\, NSW\, 2500\, Australia
CATEGORIES:Bars
END:VEVENT
BEGIN:VEVENT
DTSTART;TZID=Australia/Sydney:20240816T160000
DTEND;TZID=Australia/Sydney:20240816T200000
DTSTAMP:20260421T185731
CREATED:20240717T075108Z
LAST-MODIFIED:20240717T075145Z
UID:4279-1723824000-1723838400@popupdumplingbar.com.au
SUMMARY:Dashville Skyline 'Warm Up' @ THE SERVO PORT KEMBLA
DESCRIPTION:
URL:https://popupdumplingbar.com.au/find-us/dashville-skyline-warm-up-the-servo-port-kembla/
LOCATION:The Servo Food Truck Bar\, Darcy Rd\, Port Kembla\, NSW\, 2505\, Australia
CATEGORIES:Bars,Live Band,Live Music
END:VEVENT
BEGIN:VEVENT
DTSTART;TZID=Australia/Sydney:20240811T130000
DTEND;TZID=Australia/Sydney:20240811T180000
DTSTAMP:20260421T185731
CREATED:20240618T073913Z
LAST-MODIFIED:20240618T073913Z
UID:4246-1723381200-1723399200@popupdumplingbar.com.au
SUMMARY:The Taphouse Dapto
DESCRIPTION:
URL:https://popupdumplingbar.com.au/find-us/the-taphouse-dapto-6/
LOCATION:The Taphouse Dapto\, 89-99 Princes Highway\, Dapto\, NSW\, 2530\, Australia
END:VEVENT
BEGIN:VEVENT
DTSTART;TZID=Australia/Sydney:20240810T080000
DTEND;TZID=Australia/Sydney:20240810T130000
DTSTAMP:20260421T185731
CREATED:20240201T085044Z
LAST-MODIFIED:20240201T085044Z
UID:4105-1723276800-1723294800@popupdumplingbar.com.au
SUMMARY:The Bowral Market
DESCRIPTION:
URL:https://popupdumplingbar.com.au/find-us/the-bowral-market-3/
LOCATION:Bowral Bowling Club\, 40 Shepherd St\, Bowral\, NSW\, 2576\, Australia
CATEGORIES:Markets
END:VEVENT
BEGIN:VEVENT
DTSTART;TZID=Australia/Sydney:20240809T160000
DTEND;TZID=Australia/Sydney:20240809T200000
DTSTAMP:20260421T185731
CREATED:20240717T074941Z
LAST-MODIFIED:20240717T075010Z
UID:4276-1723219200-1723233600@popupdumplingbar.com.au
SUMMARY:Snowy Band - 'Age Difference' Album Tour + Classic & Solo Career @ THE SERVO PORT KEMBLA
DESCRIPTION:
URL:https://popupdumplingbar.com.au/find-us/snowy-band-age-difference-album-tour-classic-solo-career-the-servo/
LOCATION:The Servo Food Truck Bar\, Darcy Rd\, Port Kembla\, NSW\, 2505\, Australia
CATEGORIES:Bars,Live Band,Live Music
END:VEVENT
BEGIN:VEVENT
DTSTART;TZID=Australia/Sydney:20240804T083000
DTEND;TZID=Australia/Sydney:20240804T140000
DTSTAMP:20260421T185731
CREATED:20240201T084909Z
LAST-MODIFIED:20240201T084909Z
UID:4102-1722760200-1722780000@popupdumplingbar.com.au
SUMMARY:Bundanoon Makers Market
DESCRIPTION:
URL:https://popupdumplingbar.com.au/find-us/bundanoon-makers-market-10/
LOCATION:Bundanoon Public School\, 14 Church St\, Bundanoon\, NSW\, 2578\, Australia
CATEGORIES:Markets
END:VEVENT
BEGIN:VEVENT
DTSTART;VALUE=DATE:20240802
DTEND;VALUE=DATE:20240804
DTSTAMP:20260421T185731
CREATED:20240201T084809Z
LAST-MODIFIED:20240201T084809Z
UID:4099-1722556800-1722729599@popupdumplingbar.com.au
SUMMARY:Wolf & Woman Distillery
DESCRIPTION:
URL:https://popupdumplingbar.com.au/find-us/wolf-woman-distillery-8/
LOCATION:Wolf & Woman Distillery\, Unit 14 / 6 Bellambi Ln\, Bellambi\, NSW\, 2518\, Australia
CATEGORIES:Bars
END:VEVENT
BEGIN:VEVENT
DTSTART;TZID=Australia/Sydney:20240728T130000
DTEND;TZID=Australia/Sydney:20240728T180000
DTSTAMP:20260421T185731
CREATED:20240618T073558Z
LAST-MODIFIED:20240618T073558Z
UID:4243-1722171600-1722189600@popupdumplingbar.com.au
SUMMARY:The Taphouse Dapto
DESCRIPTION:
URL:https://popupdumplingbar.com.au/find-us/the-taphouse-dapto-5/
LOCATION:NSW
CATEGORIES:Bars,Live Music
END:VEVENT
BEGIN:VEVENT
DTSTART;VALUE=DATE:20240726
DTEND;VALUE=DATE:20240728
DTSTAMP:20260421T185731
CREATED:20240131T201346Z
LAST-MODIFIED:20240601T031854Z
UID:4096-1721952000-1722124799@popupdumplingbar.com.au
SUMMARY:The Barrel Shepherd
DESCRIPTION:
URL:https://popupdumplingbar.com.au/find-us/the-barrel-shepherd-3/
LOCATION:The Barrel Shepherd\, 16a Bellambi Lane (Entry via Pioneer Rd)\, Bellambi\, NSW\, 2518\, Australia
CATEGORIES:Bars
END:VEVENT
BEGIN:VEVENT
DTSTART;TZID=Australia/Sydney:20240721T083000
DTEND;TZID=Australia/Sydney:20240721T140000
DTSTAMP:20260421T185731
CREATED:20240131T201141Z
LAST-MODIFIED:20240131T201141Z
UID:4090-1721550600-1721570400@popupdumplingbar.com.au
SUMMARY:Bundanoon Makers Market
DESCRIPTION:
URL:https://popupdumplingbar.com.au/find-us/bundanoon-makers-market-9/
LOCATION:Bundanoon Public School\, 14 Church St\, Bundanoon\, NSW\, 2578\, Australia
CATEGORIES:Live Music,Markets
END:VEVENT
BEGIN:VEVENT
DTSTART;TZID=Australia/Sydney:20240720T120000
DTEND;TZID=Australia/Sydney:20240720T200000
DTSTAMP:20260421T185731
CREATED:20240519T122449Z
LAST-MODIFIED:20240601T031537Z
UID:4209-1721476800-1721505600@popupdumplingbar.com.au
SUMMARY:Dusty Lizard Brewing
DESCRIPTION:
URL:https://popupdumplingbar.com.au/find-us/dusty-lizard-brewing-6/
LOCATION:Dusty Lizard Brewing\, 102 Smith Street\, Wollongong\, NSW\, 2500\, Australia
CATEGORIES:Bars
END:VEVENT
BEGIN:VEVENT
DTSTART;TZID=Australia/Sydney:20240713T080000
DTEND;TZID=Australia/Sydney:20240713T130000
DTSTAMP:20260421T185731
CREATED:20240131T201239Z
LAST-MODIFIED:20240131T201239Z
UID:4093-1720857600-1720875600@popupdumplingbar.com.au
SUMMARY:The Bowral Markets
DESCRIPTION:
URL:https://popupdumplingbar.com.au/find-us/the-bowral-markets/
LOCATION:Bowral Bowling Club\, 40 Shepherd St\, Bowral\, NSW\, 2576\, Australia
CATEGORIES:Markets
END:VEVENT
BEGIN:VEVENT
DTSTART;TZID=Australia/Sydney:20240712T160000
DTEND;TZID=Australia/Sydney:20240712T200000
DTSTAMP:20260421T185731
CREATED:20240601T031759Z
LAST-MODIFIED:20240712T062730Z
UID:4228-1720800000-1720814400@popupdumplingbar.com.au
SUMMARY:Wolf & Woman Distillery
DESCRIPTION:
URL:https://popupdumplingbar.com.au/find-us/wolf-woman-distillery-10/
LOCATION:Wolf & Woman Distillery\, Unit 14 / 6 Bellambi Ln\, Bellambi\, NSW\, 2518\, Australia
CATEGORIES:Bars
END:VEVENT
BEGIN:VEVENT
DTSTART;TZID=Australia/Sydney:20240707T083000
DTEND;TZID=Australia/Sydney:20240707T140000
DTSTAMP:20260421T185731
CREATED:20240131T201032Z
LAST-MODIFIED:20240131T201032Z
UID:4087-1720341000-1720360800@popupdumplingbar.com.au
SUMMARY:Bundanoon Makers Market
DESCRIPTION:
URL:https://popupdumplingbar.com.au/find-us/bundanoon-makers-market-8/
LOCATION:Bundanoon Public School\, 14 Church St\, Bundanoon\, NSW\, 2578\, Australia
CATEGORIES:Live Music,Markets
END:VEVENT
BEGIN:VEVENT
DTSTART;TZID=Australia/Sydney:20240706T170000
DTEND;TZID=Australia/Sydney:20240706T210000
DTSTAMP:20260421T185731
CREATED:20240131T200924Z
LAST-MODIFIED:20240131T200924Z
UID:4084-1720285200-1720299600@popupdumplingbar.com.au
SUMMARY:Bundanoon Winterfest 2024
DESCRIPTION:
URL:https://popupdumplingbar.com.au/find-us/bundanoon-winterfest-2024/
LOCATION:Railway Avenue Bundanoon\, Railway Avenue\, Bundanoon\, NSW\, 2578\, Australia
CATEGORIES:Festivals,Live Band,Street Parade
END:VEVENT
BEGIN:VEVENT
DTSTART;TZID=Australia/Sydney:20240705T160000
DTEND;TZID=Australia/Sydney:20240705T200000
DTSTAMP:20260421T185731
CREATED:20240131T195708Z
LAST-MODIFIED:20240131T195708Z
UID:4073-1720195200-1720209600@popupdumplingbar.com.au
SUMMARY:Wolf & Woman Distillery
DESCRIPTION:
URL:https://popupdumplingbar.com.au/find-us/wolf-woman-distillery-7/
LOCATION:Wolf & Woman Distillery\, Unit 14 / 6 Bellambi Ln\, Bellambi\, NSW\, 2518\, Australia
CATEGORIES:Bars
END:VEVENT
BEGIN:VEVENT
DTSTART;VALUE=DATE:20240628
DTEND;VALUE=DATE:20240630
DTSTAMP:20260421T185731
CREATED:20240131T194516Z
LAST-MODIFIED:20240131T194516Z
UID:4070-1719532800-1719705599@popupdumplingbar.com.au
SUMMARY:The Barrel Shepherd
DESCRIPTION:
URL:https://popupdumplingbar.com.au/find-us/the-barrel-shepherd-2/
LOCATION:The Barrel Shepherd\, 16a Bellambi Lane (Entry via Pioneer Rd)\, Bellambi\, NSW\, 2518\, Australia
END:VEVENT
BEGIN:VEVENT
DTSTART;TZID=Australia/Sydney:20240623T130000
DTEND;TZID=Australia/Sydney:20240623T180000
DTSTAMP:20260421T185731
CREATED:20240618T073427Z
LAST-MODIFIED:20240618T073427Z
UID:4240-1719147600-1719165600@popupdumplingbar.com.au
SUMMARY:The Taphouse Dapto
DESCRIPTION:
URL:https://popupdumplingbar.com.au/find-us/the-taphouse-dapto-4/
LOCATION:The Taphouse Dapto\, 89-99 Princes Highway\, Dapto\, NSW\, 2530\, Australia
CATEGORIES:Bars,Live Music
END:VEVENT
BEGIN:VEVENT
DTSTART;VALUE=DATE:20240622
DTEND;VALUE=DATE:20240623
DTSTAMP:20260421T185731
CREATED:20240601T032013Z
LAST-MODIFIED:20240618T073219Z
UID:4231-1719014400-1719100799@popupdumplingbar.com.au
SUMMARY:Shellharbour Rocks
DESCRIPTION:
URL:https://popupdumplingbar.com.au/find-us/reserved-holy-pavlova/
LOCATION:Central Park\, 81 The Boulevarde\, Oak Flats\, NSW\, 2529\, Australia
CATEGORIES:Competition,Festivals,Live Band,Live Music,Markets,Street Parade
END:VEVENT
BEGIN:VEVENT
DTSTART;TZID=Australia/Sydney:20240616T083000
DTEND;TZID=Australia/Sydney:20240616T140000
DTSTAMP:20260421T185731
CREATED:20240131T194407Z
LAST-MODIFIED:20240131T194407Z
UID:4067-1718526600-1718546400@popupdumplingbar.com.au
SUMMARY:Bundanoon Makers Market
DESCRIPTION:
URL:https://popupdumplingbar.com.au/find-us/bundanoon-makers-market-7/
LOCATION:Bundanoon Soldiers’ Memorial Hall\, 3 Railway Ave\, Bundanoon\, NSW\, 2578\, Australia
CATEGORIES:Markets
END:VEVENT
BEGIN:VEVENT
DTSTART;TZID=Australia/Sydney:20240615T180000
DTEND;TZID=Australia/Sydney:20240615T220000
DTSTAMP:20260421T185731
CREATED:20240519T123929Z
LAST-MODIFIED:20240601T031412Z
UID:4218-1718474400-1718488800@popupdumplingbar.com.au
SUMMARY:Holy Pavlova 3rd Birthday
DESCRIPTION:
URL:https://popupdumplingbar.com.au/find-us/holy-pav-3rd-birthday/
LOCATION:Thirroul Railway Institute Hall\, 14 Railway Parade\, Thirroul\, NSW\, 2515\, Australia
CATEGORIES:Festivals,Live Band,Live Music
END:VEVENT
BEGIN:VEVENT
DTSTART;TZID=Australia/Sydney:20240608T080000
DTEND;TZID=Australia/Sydney:20240608T130000
DTSTAMP:20260421T185731
CREATED:20240131T194249Z
LAST-MODIFIED:20240131T194249Z
UID:4064-1717833600-1717851600@popupdumplingbar.com.au
SUMMARY:The Bowral Market
DESCRIPTION:
URL:https://popupdumplingbar.com.au/find-us/the-bowral-market-2/
LOCATION:Bowral Bowling Club\, 40 Shepherd St\, Bowral\, NSW\, 2576\, Australia
END:VEVENT
BEGIN:VEVENT
DTSTART;TZID=Australia/Sydney:20240607T160000
DTEND;TZID=Australia/Sydney:20240607T200000
DTSTAMP:20260421T185731
CREATED:20240131T083504Z
LAST-MODIFIED:20240131T194050Z
UID:4061-1717776000-1717790400@popupdumplingbar.com.au
SUMMARY:Wolf & Woman Distillery
DESCRIPTION:
URL:https://popupdumplingbar.com.au/find-us/wolf-woman-distillery-6/
LOCATION:Wolf & Woman Distillery\, Unit 14 / 6 Bellambi Ln\, Bellambi\, NSW\, 2518\, Australia
END:VEVENT
BEGIN:VEVENT
DTSTART;TZID=Australia/Sydney:20240602T083000
DTEND;TZID=Australia/Sydney:20240602T140000
DTSTAMP:20260421T185731
CREATED:20240131T082914Z
LAST-MODIFIED:20240131T195354Z
UID:4055-1717317000-1717336800@popupdumplingbar.com.au
SUMMARY:Bundanoon Makers Market
DESCRIPTION:
URL:https://popupdumplingbar.com.au/find-us/bundanoon-makers-market-6/
LOCATION:Bundanoon Public School\, 14 Church St\, Bundanoon\, NSW\, 2578\, Australia
CATEGORIES:Live Music,Markets
END:VEVENT
BEGIN:VEVENT
DTSTART;VALUE=DATE:20240531
DTEND;VALUE=DATE:20240602
DTSTAMP:20260421T185731
CREATED:20240131T081828Z
LAST-MODIFIED:20240131T195344Z
UID:4052-1717113600-1717286399@popupdumplingbar.com.au
SUMMARY:The Barrel Shepherd
DESCRIPTION:
URL:https://popupdumplingbar.com.au/find-us/the-barrel-shepherd/
LOCATION:The Barrel Shepherd\, 16a Bellambi Lane (Entry via Pioneer Rd)\, Bellambi\, NSW\, 2518\, Australia
CATEGORIES:Bars
END:VEVENT
BEGIN:VEVENT
DTSTART;TZID=Australia/Sydney:20240526T160000
DTEND;TZID=Australia/Sydney:20240526T200000
DTSTAMP:20260421T185731
CREATED:20240519T122023Z
LAST-MODIFIED:20240601T031533Z
UID:4205-1716739200-1716753600@popupdumplingbar.com.au
SUMMARY:Dusty Lizard Brewing
DESCRIPTION:
URL:https://popupdumplingbar.com.au/find-us/dusty-lizard-brewing-5/
LOCATION:Dusty Lizard Brewing\, 102 Smith Street\, Wollongong\, NSW\, 2500\, Australia
CATEGORIES:Bars
END:VEVENT
BEGIN:VEVENT
DTSTART;VALUE=DATE:20240524
DTEND;VALUE=DATE:20240526
DTSTAMP:20260421T185731
CREATED:20240131T081729Z
LAST-MODIFIED:20240131T195334Z
UID:4049-1716508800-1716681599@popupdumplingbar.com.au
SUMMARY:Wolf & Woman Distillery
DESCRIPTION:
URL:https://popupdumplingbar.com.au/find-us/wolf-woman-distillery-5/
LOCATION:Wolf & Woman Distillery\, Unit 14 / 6 Bellambi Ln\, Bellambi\, NSW\, 2518\, Australia
CATEGORIES:Bars
END:VEVENT
END:VCALENDAR