BEGIN:VCALENDAR
VERSION:2.0
PRODID:-//POP UP Dumpling Bar - ECPv6.15.18//NONSGML v1.0//EN
CALSCALE:GREGORIAN
METHOD:PUBLISH
X-WR-CALNAME:POP UP Dumpling Bar
X-ORIGINAL-URL:https://popupdumplingbar.com.au
X-WR-CALDESC:Events for POP UP Dumpling Bar
REFRESH-INTERVAL;VALUE=DURATION:PT1H
X-Robots-Tag:noindex
X-PUBLISHED-TTL:PT1H
BEGIN:VTIMEZONE
TZID:Australia/Sydney
BEGIN:STANDARD
TZOFFSETFROM:+1100
TZOFFSETTO:+1000
TZNAME:AEST
DTSTART:20230401T160000
END:STANDARD
BEGIN:DAYLIGHT
TZOFFSETFROM:+1000
TZOFFSETTO:+1100
TZNAME:AEDT
DTSTART:20230930T160000
END:DAYLIGHT
BEGIN:STANDARD
TZOFFSETFROM:+1100
TZOFFSETTO:+1000
TZNAME:AEST
DTSTART:20240406T160000
END:STANDARD
BEGIN:DAYLIGHT
TZOFFSETFROM:+1000
TZOFFSETTO:+1100
TZNAME:AEDT
DTSTART:20241005T160000
END:DAYLIGHT
BEGIN:STANDARD
TZOFFSETFROM:+1100
TZOFFSETTO:+1000
TZNAME:AEST
DTSTART:20250405T160000
END:STANDARD
BEGIN:DAYLIGHT
TZOFFSETFROM:+1000
TZOFFSETTO:+1100
TZNAME:AEDT
DTSTART:20251004T160000
END:DAYLIGHT
END:VTIMEZONE
BEGIN:VEVENT
DTSTART;TZID=Australia/Sydney:20241101T040000
DTEND;TZID=Australia/Sydney:20241101T200000
DTSTAMP:20260426T100831
CREATED:20240916T073353Z
LAST-MODIFIED:20240916T073353Z
UID:4292-1730433600-1730491200@popupdumplingbar.com.au
SUMMARY:Wolf & Woman Distillery
DESCRIPTION:
URL:https://popupdumplingbar.com.au/find-us/wolf-woman-distillery-12/
LOCATION:Wolf & Woman Distillery\, Unit 14 / 6 Bellambi Ln\, Bellambi\, NSW\, 2518\, Australia
CATEGORIES:Bars
END:VEVENT
BEGIN:VEVENT
DTSTART;TZID=Australia/Sydney:20241102T173000
DTEND;TZID=Australia/Sydney:20241102T203000
DTSTAMP:20260426T100831
CREATED:20241101T014315Z
LAST-MODIFIED:20241101T015158Z
UID:4412-1730568600-1730579400@popupdumplingbar.com.au
SUMMARY:Flinders Public School 21 Year Anniversary - Free Outdoor Cinema
DESCRIPTION:
URL:https://popupdumplingbar.com.au/find-us/flinders-public-school-21-year-anniversary-free-outdoor-cinema/
LOCATION:Flinders Public School\, Brunderee Road\, NSW\, 2529
CATEGORIES:Outdoor Cinema
END:VEVENT
BEGIN:VEVENT
DTSTART;TZID=Australia/Sydney:20241103T083000
DTEND;TZID=Australia/Sydney:20241103T140000
DTSTAMP:20260426T100831
CREATED:20240201T091507Z
LAST-MODIFIED:20240201T091507Z
UID:4149-1730622600-1730642400@popupdumplingbar.com.au
SUMMARY:Bundanoon Makers Market
DESCRIPTION:
URL:https://popupdumplingbar.com.au/find-us/bundanoon-makers-market-15/
LOCATION:Bundanoon Public School\, 14 Church St\, Bundanoon\, NSW\, 2578\, Australia
CATEGORIES:Markets
END:VEVENT
BEGIN:VEVENT
DTSTART;TZID=Australia/Sydney:20241107T160000
DTEND;TZID=Australia/Sydney:20241107T200000
DTSTAMP:20260426T100831
CREATED:20241101T014553Z
LAST-MODIFIED:20241101T014553Z
UID:4417-1730995200-1731009600@popupdumplingbar.com.au
SUMMARY:Folk: Jack Davies & JB Paterson
DESCRIPTION:
URL:https://popupdumplingbar.com.au/find-us/folk-jack-davies-jb-paterson/
LOCATION:The Servo Food Truck Bar\, Darcy Rd\, Port Kembla\, NSW\, 2505\, Australia
CATEGORIES:Bars,Live Band,Live Music
END:VEVENT
BEGIN:VEVENT
DTSTART;VALUE=DATE:20241109
DTEND;VALUE=DATE:20241111
DTSTAMP:20260426T100831
CREATED:20240201T091717Z
LAST-MODIFIED:20240201T091717Z
UID:4155-1731110400-1731283199@popupdumplingbar.com.au
SUMMARY:Wollongong Makers Market
DESCRIPTION:
URL:https://popupdumplingbar.com.au/find-us/wollongong-makers-market-2/
LOCATION:UOW Innovation Campus\, Innovation Way\, Wollongong\, NSW\, 2500\, Australia
CATEGORIES:Live Band,Live Music,Markets
END:VEVENT
BEGIN:VEVENT
DTSTART;TZID=Australia/Sydney:20241115T160000
DTEND;TZID=Australia/Sydney:20241115T200000
DTSTAMP:20260426T100831
CREATED:20240201T091844Z
LAST-MODIFIED:20240201T091844Z
UID:4158-1731686400-1731700800@popupdumplingbar.com.au
SUMMARY:The Barrel Shepherd
DESCRIPTION:
URL:https://popupdumplingbar.com.au/find-us/the-barrel-shepherd-7/
LOCATION:The Barrel Shepherd\, 16a Bellambi Lane (Entry via Pioneer Rd)\, Bellambi\, NSW\, 2518\, Australia
CATEGORIES:Bars
END:VEVENT
BEGIN:VEVENT
DTSTART;TZID=Australia/Sydney:20241117T083000
DTEND;TZID=Australia/Sydney:20241117T140000
DTSTAMP:20260426T100831
CREATED:20240201T091604Z
LAST-MODIFIED:20240201T091604Z
UID:4152-1731832200-1731852000@popupdumplingbar.com.au
SUMMARY:Bundanoon Makers Market
DESCRIPTION:
URL:https://popupdumplingbar.com.au/find-us/bundanoon-makers-market-16/
LOCATION:Bundanoon Soldiers’ Memorial Hall\, 3 Railway Ave\, Bundanoon\, NSW\, 2578\, Australia
CATEGORIES:Markets
END:VEVENT
BEGIN:VEVENT
DTSTART;TZID=Australia/Sydney:20241122T160000
DTEND;TZID=Australia/Sydney:20241122T200000
DTSTAMP:20260426T100831
CREATED:20241207T115949Z
LAST-MODIFIED:20241207T115949Z
UID:4448-1732291200-1732305600@popupdumplingbar.com.au
SUMMARY:Wolf & Woman Distillery
DESCRIPTION:
URL:https://popupdumplingbar.com.au/find-us/wolf-woman-distillery-16/
LOCATION:Wolf & Woman Distillery\, Unit 14 / 6 Bellambi Ln\, Bellambi\, NSW\, 2518\, Australia
CATEGORIES:Bars
END:VEVENT
BEGIN:VEVENT
DTSTART;TZID=Australia/Sydney:20241123T110000
DTEND;TZID=Australia/Sydney:20241123T180000
DTSTAMP:20260426T100831
CREATED:20241101T014919Z
LAST-MODIFIED:20241101T015047Z
UID:4420-1732359600-1732384800@popupdumplingbar.com.au
SUMMARY:The Illawarra Mercury The Gong Raceday 2024
DESCRIPTION:
URL:https://popupdumplingbar.com.au/find-us/the-illawarra-mercury-the-gong-raceday-2024/
LOCATION:Kembla Grange Racecourse\, Princes Highway\, Kembla Grange\, NSW\, 2529\, Australia
CATEGORIES:Racecourse
END:VEVENT
BEGIN:VEVENT
DTSTART;TZID=Australia/Sydney:20241123T150000
DTEND;TZID=Australia/Sydney:20241123T200000
DTSTAMP:20260426T100831
CREATED:20241207T120240Z
LAST-MODIFIED:20241207T120411Z
UID:4451-1732374000-1732392000@popupdumplingbar.com.au
SUMMARY:Bundanoon Folk Festival
DESCRIPTION:
URL:https://popupdumplingbar.com.au/find-us/bundanoon-folk-festival/
LOCATION:Bundanoon Public School\, 14 Church St\, Bundanoon\, NSW\, 2578\, Australia
CATEGORIES:Festivals,Live Band,Live Music,Markets
END:VEVENT
BEGIN:VEVENT
DTSTART;TZID=Australia/Sydney:20241129T160000
DTEND;TZID=Australia/Sydney:20241129T200000
DTSTAMP:20260426T100831
CREATED:20241110T075425Z
LAST-MODIFIED:20241110T075425Z
UID:4426-1732896000-1732910400@popupdumplingbar.com.au
SUMMARY:Keiraville Public School Twilight Markets
DESCRIPTION:
URL:https://popupdumplingbar.com.au/find-us/keiraville-public-school-twilight-markets/
LOCATION:Keiraville Public School
CATEGORIES:Festivals
END:VEVENT
END:VCALENDAR