BEGIN:VCALENDAR
VERSION:2.0
PRODID:-//POP UP Dumpling Bar - ECPv6.15.18//NONSGML v1.0//EN
CALSCALE:GREGORIAN
METHOD:PUBLISH
X-ORIGINAL-URL:https://popupdumplingbar.com.au
X-WR-CALDESC:Events for POP UP Dumpling Bar
REFRESH-INTERVAL;VALUE=DURATION:PT1H
X-Robots-Tag:noindex
X-PUBLISHED-TTL:PT1H
BEGIN:VTIMEZONE
TZID:Australia/Sydney
BEGIN:STANDARD
TZOFFSETFROM:+1100
TZOFFSETTO:+1000
TZNAME:AEST
DTSTART:20240406T160000
END:STANDARD
BEGIN:DAYLIGHT
TZOFFSETFROM:+1000
TZOFFSETTO:+1100
TZNAME:AEDT
DTSTART:20241005T160000
END:DAYLIGHT
BEGIN:STANDARD
TZOFFSETFROM:+1100
TZOFFSETTO:+1000
TZNAME:AEST
DTSTART:20250405T160000
END:STANDARD
BEGIN:DAYLIGHT
TZOFFSETFROM:+1000
TZOFFSETTO:+1100
TZNAME:AEDT
DTSTART:20251004T160000
END:DAYLIGHT
BEGIN:STANDARD
TZOFFSETFROM:+1100
TZOFFSETTO:+1000
TZNAME:AEST
DTSTART:20260404T160000
END:STANDARD
BEGIN:DAYLIGHT
TZOFFSETFROM:+1000
TZOFFSETTO:+1100
TZNAME:AEDT
DTSTART:20261003T160000
END:DAYLIGHT
END:VTIMEZONE
BEGIN:VEVENT
DTSTART;TZID=Australia/Sydney:20250406T080000
DTEND;TZID=Australia/Sydney:20250406T170000
DTSTAMP:20260426T084311
CREATED:20241012T080526Z
LAST-MODIFIED:20241012T080526Z
UID:4366-1743926400-1743958800@popupdumplingbar.com.au
SUMMARY:Bundanoon Makers Markets
DESCRIPTION:
URL:https://popupdumplingbar.com.au/find-us/bundanoon-makers-markets-6/
LOCATION:Bundanoon Public School\, 14 Church St\, Bundanoon\, NSW\, 2578\, Australia
CATEGORIES:Markets
END:VEVENT
BEGIN:VEVENT
DTSTART;VALUE=DATE:20250412
DTEND;VALUE=DATE:20250414
DTSTAMP:20260426T084311
CREATED:20241221T212132Z
LAST-MODIFIED:20241221T212132Z
UID:4475-1744416000-1744588799@popupdumplingbar.com.au
SUMMARY:UOW UP Market
DESCRIPTION:
URL:https://popupdumplingbar.com.au/find-us/uow-up-market/
LOCATION:UOW Innovation Campus\, Innovation Way\, Wollongong\, NSW\, 2500\, Australia
CATEGORIES:Markets
END:VEVENT
BEGIN:VEVENT
DTSTART;TZID=Australia/Sydney:20250412T120000
DTEND;TZID=Australia/Sydney:20250412T200000
DTSTAMP:20260426T084311
CREATED:20250225T000648Z
LAST-MODIFIED:20250225T000718Z
UID:4552-1744459200-1744488000@popupdumplingbar.com.au
SUMMARY:Port Kembla Festival
DESCRIPTION:
URL:https://popupdumplingbar.com.au/find-us/port-kembla-festival-2/
LOCATION:The Servo Food Truck Bar\, Darcy Rd\, Port Kembla\, NSW\, 2505\, Australia
CATEGORIES:Bars,Festivals,Live Band,Live Music
END:VEVENT
BEGIN:VEVENT
DTSTART;TZID=Australia/Sydney:20250420T083000
DTEND;TZID=Australia/Sydney:20250420T140000
DTSTAMP:20260426T084311
CREATED:20241012T080726Z
LAST-MODIFIED:20241012T080726Z
UID:4369-1745137800-1745157600@popupdumplingbar.com.au
SUMMARY:Bundanoon Makers Markets
DESCRIPTION:
URL:https://popupdumplingbar.com.au/find-us/bundanoon-makers-markets-7/
LOCATION:Bundanoon Soldiers’ Memorial Hall\, 3 Railway Ave\, Bundanoon\, NSW\, 2578\, Australia
CATEGORIES:Markets
END:VEVENT
END:VCALENDAR