BEGIN:VCALENDAR
VERSION:2.0
PRODID:-//POP UP Dumpling Bar - ECPv6.15.18//NONSGML v1.0//EN
CALSCALE:GREGORIAN
METHOD:PUBLISH
X-ORIGINAL-URL:https://popupdumplingbar.com.au
X-WR-CALDESC:Events for POP UP Dumpling Bar
REFRESH-INTERVAL;VALUE=DURATION:PT1H
X-Robots-Tag:noindex
X-PUBLISHED-TTL:PT1H
BEGIN:VTIMEZONE
TZID:Australia/Sydney
BEGIN:STANDARD
TZOFFSETFROM:+1100
TZOFFSETTO:+1000
TZNAME:AEST
DTSTART:20240406T160000
END:STANDARD
BEGIN:DAYLIGHT
TZOFFSETFROM:+1000
TZOFFSETTO:+1100
TZNAME:AEDT
DTSTART:20241005T160000
END:DAYLIGHT
BEGIN:STANDARD
TZOFFSETFROM:+1100
TZOFFSETTO:+1000
TZNAME:AEST
DTSTART:20250405T160000
END:STANDARD
BEGIN:DAYLIGHT
TZOFFSETFROM:+1000
TZOFFSETTO:+1100
TZNAME:AEDT
DTSTART:20251004T160000
END:DAYLIGHT
BEGIN:STANDARD
TZOFFSETFROM:+1100
TZOFFSETTO:+1000
TZNAME:AEST
DTSTART:20260404T160000
END:STANDARD
BEGIN:DAYLIGHT
TZOFFSETFROM:+1000
TZOFFSETTO:+1100
TZNAME:AEDT
DTSTART:20261003T160000
END:DAYLIGHT
END:VTIMEZONE
BEGIN:VEVENT
DTSTART;TZID=Australia/Sydney:20250601T083000
DTEND;TZID=Australia/Sydney:20250601T140000
DTSTAMP:20260423T095326
CREATED:20241012T081038Z
LAST-MODIFIED:20241012T081038Z
UID:4372-1748766600-1748786400@popupdumplingbar.com.au
SUMMARY:Bundanoon Makers Markets
DESCRIPTION:
URL:https://popupdumplingbar.com.au/find-us/bundanoon-makers-markets-8/
LOCATION:Bundanoon Public School\, 14 Church St\, Bundanoon\, NSW\, 2578\, Australia
CATEGORIES:Markets
END:VEVENT
BEGIN:VEVENT
DTSTART;VALUE=DATE:20250606
DTEND;VALUE=DATE:20250608
DTSTAMP:20260423T095326
CREATED:20250719T181508Z
LAST-MODIFIED:20250719T181508Z
UID:4593-1749168000-1749340799@popupdumplingbar.com.au
SUMMARY:Dusty Lizard Brewing
DESCRIPTION:
URL:https://popupdumplingbar.com.au/find-us/dusty-lizard-brewing-14/
LOCATION:Dusty Lizard Brewing\, 102 Smith Street\, Wollongong\, NSW\, 2500\, Australia
CATEGORIES:Bars
END:VEVENT
BEGIN:VEVENT
DTSTART;VALUE=DATE:20250613
DTEND;VALUE=DATE:20250615
DTSTAMP:20260423T095326
CREATED:20250225T001110Z
LAST-MODIFIED:20250225T001110Z
UID:4555-1749772800-1749945599@popupdumplingbar.com.au
SUMMARY:Wolf & Woman Distillery
DESCRIPTION:
URL:https://popupdumplingbar.com.au/find-us/wolf-woman-distillery-17/
LOCATION:Wolf & Woman Distillery\, Unit 14 / 6 Bellambi Ln\, Bellambi\, NSW\, 2518\, Australia
END:VEVENT
BEGIN:VEVENT
DTSTART;TZID=Australia/Sydney:20250615T083000
DTEND;TZID=Australia/Sydney:20250615T140000
DTSTAMP:20260423T095326
CREATED:20241012T081235Z
LAST-MODIFIED:20241012T081235Z
UID:4375-1749976200-1749996000@popupdumplingbar.com.au
SUMMARY:Bundanoon Makers Markets
DESCRIPTION:
URL:https://popupdumplingbar.com.au/find-us/bundanoon-makers-markets-9/
LOCATION:Bundanoon Soldiers’ Memorial Hall\, 3 Railway Ave\, Bundanoon\, NSW\, 2578\, Australia
CATEGORIES:Markets
END:VEVENT
BEGIN:VEVENT
DTSTART;TZID=Australia/Sydney:20250621T150000
DTEND;TZID=Australia/Sydney:20250621T180000
DTSTAMP:20260423T095326
CREATED:20250719T181654Z
LAST-MODIFIED:20250719T182312Z
UID:4596-1750518000-1750528800@popupdumplingbar.com.au
SUMMARY:Private Catering: Wedding
DESCRIPTION:
URL:https://popupdumplingbar.com.au/find-us/private-catering-wedding/
LOCATION:Coledale Caravan Park
CATEGORIES:Bars
END:VEVENT
BEGIN:VEVENT
DTSTART;TZID=Australia/Sydney:20250626T170000
DTEND;TZID=Australia/Sydney:20250626T200000
DTSTAMP:20260423T095326
CREATED:20250719T181824Z
LAST-MODIFIED:20250719T182607Z
UID:4601-1750957200-1750968000@popupdumplingbar.com.au
SUMMARY:Wollongong Conservatorium of Music: Jazz Night
DESCRIPTION:
URL:https://popupdumplingbar.com.au/find-us/wollongong-conservatorium-of-music-jazz-night/
LOCATION:The Servo Food Truck Bar\, Darcy Rd\, Port Kembla\, NSW\, 2505\, Australia
CATEGORIES:Bars,Live Music
END:VEVENT
BEGIN:VEVENT
DTSTART;VALUE=DATE:20250627
DTEND;VALUE=DATE:20250629
DTSTAMP:20260423T095326
CREATED:20241008T031945Z
LAST-MODIFIED:20241008T031945Z
UID:4335-1750982400-1751155199@popupdumplingbar.com.au
SUMMARY:The Barrel Shepherd
DESCRIPTION:
URL:https://popupdumplingbar.com.au/find-us/the-barrel-shepherd-19/
LOCATION:The Barrel Shepherd\, 16a Bellambi Lane (Entry via Pioneer Rd)\, Bellambi\, NSW\, 2518\, Australia
CATEGORIES:Bars
END:VEVENT
BEGIN:VEVENT
DTSTART;TZID=Australia/Sydney:20250629T120000
DTEND;TZID=Australia/Sydney:20250629T180000
DTSTAMP:20260423T095326
CREATED:20250719T182020Z
LAST-MODIFIED:20250719T182752Z
UID:4604-1751198400-1751220000@popupdumplingbar.com.au
SUMMARY:First Light Brewing Co
DESCRIPTION:
URL:https://popupdumplingbar.com.au/find-us/first-light-brewing-co/
LOCATION:First Light Brewing Co
CATEGORIES:Bars
END:VEVENT
END:VCALENDAR