BEGIN:VCALENDAR
VERSION:2.0
PRODID:-//POP UP Dumpling Bar - ECPv6.15.18//NONSGML v1.0//EN
CALSCALE:GREGORIAN
METHOD:PUBLISH
X-WR-CALNAME:POP UP Dumpling Bar
X-ORIGINAL-URL:https://popupdumplingbar.com.au
X-WR-CALDESC:Events for POP UP Dumpling Bar
REFRESH-INTERVAL;VALUE=DURATION:PT1H
X-Robots-Tag:noindex
X-PUBLISHED-TTL:PT1H
BEGIN:VTIMEZONE
TZID:Australia/Sydney
BEGIN:STANDARD
TZOFFSETFROM:+1100
TZOFFSETTO:+1000
TZNAME:AEST
DTSTART:20240406T160000
END:STANDARD
BEGIN:DAYLIGHT
TZOFFSETFROM:+1000
TZOFFSETTO:+1100
TZNAME:AEDT
DTSTART:20241005T160000
END:DAYLIGHT
BEGIN:STANDARD
TZOFFSETFROM:+1100
TZOFFSETTO:+1000
TZNAME:AEST
DTSTART:20250405T160000
END:STANDARD
BEGIN:DAYLIGHT
TZOFFSETFROM:+1000
TZOFFSETTO:+1100
TZNAME:AEDT
DTSTART:20251004T160000
END:DAYLIGHT
BEGIN:STANDARD
TZOFFSETFROM:+1100
TZOFFSETTO:+1000
TZNAME:AEST
DTSTART:20260404T160000
END:STANDARD
BEGIN:DAYLIGHT
TZOFFSETFROM:+1000
TZOFFSETTO:+1100
TZNAME:AEDT
DTSTART:20261003T160000
END:DAYLIGHT
END:VTIMEZONE
BEGIN:VEVENT
DTSTART;TZID=Australia/Sydney:20250705T110000
DTEND;TZID=Australia/Sydney:20250705T150000
DTSTAMP:20260426T111854
CREATED:20250719T182134Z
LAST-MODIFIED:20250719T182134Z
UID:4609-1751713200-1751727600@popupdumplingbar.com.au
SUMMARY:Coomaditchie Last Minute Gallery
DESCRIPTION:
URL:https://popupdumplingbar.com.au/find-us/coomaditchie-last-minute-gallery/
LOCATION:The Servo Food Truck Bar\, Darcy Rd\, Port Kembla\, NSW\, 2505\, Australia
CATEGORIES:Bars,Festivals
END:VEVENT
BEGIN:VEVENT
DTSTART;TZID=Australia/Sydney:20250706T080000
DTEND;TZID=Australia/Sydney:20250706T170000
DTSTAMP:20260426T111854
CREATED:20241012T081942Z
LAST-MODIFIED:20241012T081942Z
UID:4378-1751788800-1751821200@popupdumplingbar.com.au
SUMMARY:Bundanoon Makers Markets
DESCRIPTION:
URL:https://popupdumplingbar.com.au/find-us/bundanoon-makers-markets-10/
LOCATION:Bundanoon Public School\, 14 Church St\, Bundanoon\, NSW\, 2578\, Australia
CATEGORIES:Markets
END:VEVENT
BEGIN:VEVENT
DTSTART;TZID=Australia/Sydney:20250706T083000
DTEND;TZID=Australia/Sydney:20250706T140000
DTSTAMP:20260426T111854
CREATED:20250719T183943Z
LAST-MODIFIED:20250719T183943Z
UID:4622-1751790600-1751810400@popupdumplingbar.com.au
SUMMARY:Bundanoon Makers Market
DESCRIPTION:
URL:https://popupdumplingbar.com.au/find-us/bundanoon-makers-market-19/
LOCATION:Bundanoon Soldiers’ Memorial Hall\, 3 Railway Ave\, Bundanoon\, NSW\, 2578\, Australia
END:VEVENT
BEGIN:VEVENT
DTSTART;VALUE=DATE:20250711
DTEND;VALUE=DATE:20250713
DTSTAMP:20260426T111854
CREATED:20250225T001213Z
LAST-MODIFIED:20250225T001213Z
UID:4558-1752192000-1752364799@popupdumplingbar.com.au
SUMMARY:Wolf & Woman Distillery
DESCRIPTION:
URL:https://popupdumplingbar.com.au/find-us/wolf-woman-distillery-18/
LOCATION:Wolf & Woman Distillery\, Unit 14 / 6 Bellambi Ln\, Bellambi\, NSW\, 2518\, Australia
CATEGORIES:Bars
END:VEVENT
BEGIN:VEVENT
DTSTART;TZID=Australia/Sydney:20250711T110000
DTEND;TZID=Australia/Sydney:20250711T130000
DTSTAMP:20260426T111854
CREATED:20250719T182933Z
LAST-MODIFIED:20250719T182933Z
UID:4612-1752231600-1752238800@popupdumplingbar.com.au
SUMMARY:Private Catering: Corporate
DESCRIPTION:
URL:https://popupdumplingbar.com.au/find-us/private-catering-corporate/
LOCATION:Wolf & Woman Distillery\, Unit 14 / 6 Bellambi Ln\, Bellambi\, NSW\, 2518\, Australia
CATEGORIES:Bars
END:VEVENT
BEGIN:VEVENT
DTSTART;VALUE=DATE:20250718
DTEND;VALUE=DATE:20250720
DTSTAMP:20260426T111854
CREATED:20250719T183212Z
LAST-MODIFIED:20250719T183212Z
UID:4615-1752796800-1752969599@popupdumplingbar.com.au
SUMMARY:Bass Point Brewing
DESCRIPTION:
URL:https://popupdumplingbar.com.au/find-us/bass-point-brewing/
LOCATION:Bass Point Brewing
CATEGORIES:Bars
END:VEVENT
BEGIN:VEVENT
DTSTART;TZID=Australia/Sydney:20250720T083000
DTEND;TZID=Australia/Sydney:20250720T140000
DTSTAMP:20260426T111854
CREATED:20241012T082128Z
LAST-MODIFIED:20241012T082128Z
UID:4381-1753000200-1753020000@popupdumplingbar.com.au
SUMMARY:Bundanoon Makers Markets
DESCRIPTION:
URL:https://popupdumplingbar.com.au/find-us/bundanoon-makers-markets-11/
LOCATION:Bundanoon Soldiers’ Memorial Hall\, 3 Railway Ave\, Bundanoon\, NSW\, 2578\, Australia
CATEGORIES:Markets
END:VEVENT
BEGIN:VEVENT
DTSTART;TZID=Australia/Sydney:20250720T083000
DTEND;TZID=Australia/Sydney:20250720T140000
DTSTAMP:20260426T111854
CREATED:20250719T184023Z
LAST-MODIFIED:20250719T184023Z
UID:4625-1753000200-1753020000@popupdumplingbar.com.au
SUMMARY:Bundanoon Makers Market
DESCRIPTION:
URL:https://popupdumplingbar.com.au/find-us/bundanoon-makers-market-20/
LOCATION:Bundanoon Soldiers’ Memorial Hall\, 3 Railway Ave\, Bundanoon\, NSW\, 2578\, Australia
END:VEVENT
BEGIN:VEVENT
DTSTART;VALUE=DATE:20250725
DTEND;VALUE=DATE:20250727
DTSTAMP:20260426T111854
CREATED:20241008T030817Z
LAST-MODIFIED:20241008T030817Z
UID:4317-1753401600-1753574399@popupdumplingbar.com.au
SUMMARY:The Barrel Shepherd
DESCRIPTION:
URL:https://popupdumplingbar.com.au/find-us/the-barrel-shepherd-13/
LOCATION:The Barrel Shepherd\, 16a Bellambi Lane (Entry via Pioneer Rd)\, Bellambi\, NSW\, 2518\, Australia
END:VEVENT
END:VCALENDAR