BEGIN:VCALENDAR
VERSION:2.0
PRODID:-//POP UP Dumpling Bar - ECPv6.15.18//NONSGML v1.0//EN
CALSCALE:GREGORIAN
METHOD:PUBLISH
X-ORIGINAL-URL:https://popupdumplingbar.com.au
X-WR-CALDESC:Events for POP UP Dumpling Bar
REFRESH-INTERVAL;VALUE=DURATION:PT1H
X-Robots-Tag:noindex
X-PUBLISHED-TTL:PT1H
BEGIN:VTIMEZONE
TZID:Australia/Sydney
BEGIN:STANDARD
TZOFFSETFROM:+1100
TZOFFSETTO:+1000
TZNAME:AEST
DTSTART:20240406T160000
END:STANDARD
BEGIN:DAYLIGHT
TZOFFSETFROM:+1000
TZOFFSETTO:+1100
TZNAME:AEDT
DTSTART:20241005T160000
END:DAYLIGHT
BEGIN:STANDARD
TZOFFSETFROM:+1100
TZOFFSETTO:+1000
TZNAME:AEST
DTSTART:20250405T160000
END:STANDARD
BEGIN:DAYLIGHT
TZOFFSETFROM:+1000
TZOFFSETTO:+1100
TZNAME:AEDT
DTSTART:20251004T160000
END:DAYLIGHT
BEGIN:STANDARD
TZOFFSETFROM:+1100
TZOFFSETTO:+1000
TZNAME:AEST
DTSTART:20260404T160000
END:STANDARD
BEGIN:DAYLIGHT
TZOFFSETFROM:+1000
TZOFFSETTO:+1100
TZNAME:AEDT
DTSTART:20261003T160000
END:DAYLIGHT
END:VTIMEZONE
BEGIN:VEVENT
DTSTART;TZID=Australia/Sydney:20250803T083000
DTEND;TZID=Australia/Sydney:20250803T140000
DTSTAMP:20260426T142701
CREATED:20250719T184055Z
LAST-MODIFIED:20250719T184055Z
UID:4628-1754209800-1754229600@popupdumplingbar.com.au
SUMMARY:Bundanoon Makers Market
DESCRIPTION:
URL:https://popupdumplingbar.com.au/find-us/bundanoon-makers-market-21/
LOCATION:Bundanoon Soldiers’ Memorial Hall\, 3 Railway Ave\, Bundanoon\, NSW\, 2578\, Australia
END:VEVENT
BEGIN:VEVENT
DTSTART;VALUE=DATE:20250808
DTEND;VALUE=DATE:20250810
DTSTAMP:20260426T142701
CREATED:20250225T001344Z
LAST-MODIFIED:20250225T001344Z
UID:4561-1754611200-1754783999@popupdumplingbar.com.au
SUMMARY:Wolf & Woman Distillery
DESCRIPTION:
URL:https://popupdumplingbar.com.au/find-us/wolf-woman-distillery-19/
LOCATION:Wolf & Woman Distillery\, Unit 14 / 6 Bellambi Ln\, Bellambi\, NSW\, 2518\, Australia
CATEGORIES:Bars
END:VEVENT
BEGIN:VEVENT
DTSTART;TZID=Australia/Sydney:20250817T083000
DTEND;TZID=Australia/Sydney:20250817T140000
DTSTAMP:20260426T142701
CREATED:20250719T184138Z
LAST-MODIFIED:20250719T184138Z
UID:4633-1755419400-1755439200@popupdumplingbar.com.au
SUMMARY:Bundanoon Makers Market
DESCRIPTION:
URL:https://popupdumplingbar.com.au/find-us/bundanoon-makers-market-22/
LOCATION:Bundanoon Soldiers’ Memorial Hall\, 3 Railway Ave\, Bundanoon\, NSW\, 2578\, Australia
END:VEVENT
BEGIN:VEVENT
DTSTART;VALUE=DATE:20250822
DTEND;VALUE=DATE:20250824
DTSTAMP:20260426T142701
CREATED:20241008T030940Z
LAST-MODIFIED:20241008T030940Z
UID:4320-1755820800-1755993599@popupdumplingbar.com.au
SUMMARY:The Barrel Shepherd
DESCRIPTION:
URL:https://popupdumplingbar.com.au/find-us/the-barrel-shepherd-14/
LOCATION:The Barrel Shepherd\, 16a Bellambi Lane (Entry via Pioneer Rd)\, Bellambi\, NSW\, 2518\, Australia
CATEGORIES:Bars
END:VEVENT
END:VCALENDAR